BEGIN:VCALENDAR
VERSION:2.0
CALSCALE:GREGORIAN
PRODID:UnionActive
BEGIN:VEVENT
UID:11838305@ibew2.org
SUMMARY:Lewis County REC Unit Meeting
DESCRIPTION:Contact:  \nLink for more information: http://ibew2.org/index.cfm?zone=/unionactive/view_calendar.cfm&calendarID=11838305&thisdate=04/08/2037&useCalSection=main
LOCATION:
URL:http://ibew2.org/index.cfm?zone=/unionactive/view_calendar.cfm&calendarID=11838305&thisdate=04/08/2037&useCalSection=main
DTSTART:20370408T213000Z
DTEND:20370408T223000Z
DTSTAMP:20240229T145010
TRIGGER:-PT60M
END:VEVENT
END:VCALENDAR
