BEGIN:VCALENDAR
VERSION:2.0
CALSCALE:GREGORIAN
PRODID:UnionActive
BEGIN:VEVENT
UID:11838304@ibew2.org
SUMMARY:Lewis County REC Unit Meeting
DESCRIPTION:Contact:  \nLink for more information: http://ibew2.org/index.cfm?zone=/unionactive/view_calendar.cfm&calendarID=11838304&thisdate=02/11/2037&useCalSection=main
LOCATION:
URL:http://ibew2.org/index.cfm?zone=/unionactive/view_calendar.cfm&calendarID=11838304&thisdate=02/11/2037&useCalSection=main
DTSTART:20370211T223000Z
DTEND:20370211T233000Z
DTSTAMP:20240229T145014
TRIGGER:-PT60M
END:VEVENT
END:VCALENDAR
