BEGIN:VCALENDAR
VERSION:2.0
CALSCALE:GREGORIAN
PRODID:UnionActive
BEGIN:VEVENT
UID:11838302@ibew2.org
SUMMARY:Lewis County REC Unit Meeting
DESCRIPTION:Contact:  \nLink for more information: http://ibew2.org/index.cfm?zone=/unionactive/view_calendar.cfm&calendarID=11838302&thisdate=10/08/2036&useCalSection=main
LOCATION:
URL:http://ibew2.org/index.cfm?zone=/unionactive/view_calendar.cfm&calendarID=11838302&thisdate=10/08/2036&useCalSection=main
DTSTART:20361008T213000Z
DTEND:20361008T223000Z
DTSTAMP:20240229T144819
TRIGGER:-PT60M
END:VEVENT
END:VCALENDAR
