BEGIN:VCALENDAR
VERSION:2.0
CALSCALE:GREGORIAN
PRODID:UnionActive
BEGIN:VEVENT
UID:11838298@ibew2.org
SUMMARY:Lewis County REC Unit Meeting
DESCRIPTION:Contact:  \nLink for more information: http://ibew2.org/index.cfm?zone=/unionactive/view_calendar.cfm&calendarID=11838298&thisdate=02/13/2036&useCalSection=main
LOCATION:
URL:http://ibew2.org/index.cfm?zone=/unionactive/view_calendar.cfm&calendarID=11838298&thisdate=02/13/2036&useCalSection=main
DTSTART:20360213T223000Z
DTEND:20360213T233000Z
DTSTAMP:20240229T144814
TRIGGER:-PT60M
END:VEVENT
END:VCALENDAR
