BEGIN:VCALENDAR
VERSION:2.0
CALSCALE:GREGORIAN
PRODID:UnionActive
BEGIN:VEVENT
UID:11838295@ibew2.org
SUMMARY:Lewis County REC Unit Meeting
DESCRIPTION:Contact:  \nLink for more information: http://ibew2.org/index.cfm?zone=/unionactive/view_calendar.cfm&calendarID=11838295&thisdate=08/08/2035&useCalSection=main
LOCATION:
URL:http://ibew2.org/index.cfm?zone=/unionactive/view_calendar.cfm&calendarID=11838295&thisdate=08/08/2035&useCalSection=main
DTSTART:20350808T213000Z
DTEND:20350808T223000Z
DTSTAMP:20240229T144515
TRIGGER:-PT60M
END:VEVENT
END:VCALENDAR
