BEGIN:VCALENDAR
VERSION:2.0
CALSCALE:GREGORIAN
PRODID:UnionActive
BEGIN:VEVENT
UID:11838293@ibew2.org
SUMMARY:Lewis County REC Unit Meeting
DESCRIPTION:Contact:  \nLink for more information: http://ibew2.org/index.cfm?zone=/unionactive/view_calendar.cfm&calendarID=11838293&thisdate=04/11/2035&useCalSection=main
LOCATION:
URL:http://ibew2.org/index.cfm?zone=/unionactive/view_calendar.cfm&calendarID=11838293&thisdate=04/11/2035&useCalSection=main
DTSTART:20350411T213000Z
DTEND:20350411T223000Z
DTSTAMP:20240229T144518
TRIGGER:-PT60M
END:VEVENT
END:VCALENDAR
