BEGIN:VCALENDAR
VERSION:2.0
CALSCALE:GREGORIAN
PRODID:UnionActive
BEGIN:VEVENT
UID:11838292@ibew2.org
SUMMARY:Lewis County REC Unit Meeting
DESCRIPTION:Contact:  \nLink for more information: http://ibew2.org/index.cfm?zone=/unionactive/view_calendar.cfm&calendarID=11838292&thisdate=02/14/2035&useCalSection=main
LOCATION:
URL:http://ibew2.org/index.cfm?zone=/unionactive/view_calendar.cfm&calendarID=11838292&thisdate=02/14/2035&useCalSection=main
DTSTART:20350214T223000Z
DTEND:20350214T233000Z
DTSTAMP:20240229T144506
TRIGGER:-PT60M
END:VEVENT
END:VCALENDAR
