BEGIN:VCALENDAR
VERSION:2.0
CALSCALE:GREGORIAN
PRODID:UnionActive
BEGIN:VEVENT
UID:11838281@ibew2.org
SUMMARY:Lewis County REC Unit Meeting
DESCRIPTION:Contact:  \nLink for more information: http://ibew2.org/index.cfm?zone=/unionactive/view_calendar.cfm&calendarID=11838281&thisdate=04/13/2033&useCalSection=main
LOCATION:
URL:http://ibew2.org/index.cfm?zone=/unionactive/view_calendar.cfm&calendarID=11838281&thisdate=04/13/2033&useCalSection=main
DTSTART:20330413T213000Z
DTEND:20330413T223000Z
DTSTAMP:20240229T144037
TRIGGER:-PT60M
END:VEVENT
END:VCALENDAR
