BEGIN:VCALENDAR
VERSION:2.0
CALSCALE:GREGORIAN
PRODID:UnionActive
BEGIN:VEVENT
UID:11838274@ibew2.org
SUMMARY:Lewis County REC Unit Meeting
DESCRIPTION:Contact:  \nLink for more information: http://ibew2.org/index.cfm?zone=/unionactive/view_calendar.cfm&calendarID=11838274&thisdate=02/11/2032&useCalSection=main
LOCATION:
URL:http://ibew2.org/index.cfm?zone=/unionactive/view_calendar.cfm&calendarID=11838274&thisdate=02/11/2032&useCalSection=main
DTSTART:20320211T223000Z
DTEND:20320211T233000Z
DTSTAMP:20240229T143858
TRIGGER:-PT60M
END:VEVENT
END:VCALENDAR
