BEGIN:VCALENDAR
VERSION:2.0
CALSCALE:GREGORIAN
PRODID:UnionActive
BEGIN:VEVENT
UID:11838269@ibew2.org
SUMMARY:Lewis County REC Unit Meeting
DESCRIPTION:Contact:  \nLink for more information: http://ibew2.org/index.cfm?zone=/unionactive/view_calendar.cfm&calendarID=11838269&thisdate=04/09/2031&useCalSection=main
LOCATION:
URL:http://ibew2.org/index.cfm?zone=/unionactive/view_calendar.cfm&calendarID=11838269&thisdate=04/09/2031&useCalSection=main
DTSTART:20310409T213000Z
DTEND:20310409T223000Z
DTSTAMP:20240229T143757
TRIGGER:-PT60M
END:VEVENT
END:VCALENDAR
