BEGIN:VCALENDAR
VERSION:2.0
CALSCALE:GREGORIAN
PRODID:UnionActive
BEGIN:VEVENT
UID:11838254@ibew2.org
SUMMARY:Lewis County REC Unit Meeting
DESCRIPTION:Contact:  \nLink for more information: http://ibew2.org/index.cfm?zone=/unionactive/view_calendar.cfm&calendarID=11838254&thisdate=10/11/2028&useCalSection=main
LOCATION:
URL:http://ibew2.org/index.cfm?zone=/unionactive/view_calendar.cfm&calendarID=11838254&thisdate=10/11/2028&useCalSection=main
DTSTART:20281011T213000Z
DTEND:20281011T223000Z
DTSTAMP:20240229T143249
TRIGGER:-PT60M
END:VEVENT
END:VCALENDAR
