BEGIN:VCALENDAR
VERSION:2.0
CALSCALE:GREGORIAN
PRODID:UnionActive
BEGIN:VEVENT
UID:11838246@ibew2.org
SUMMARY:Lewis County REC Unit Meeting
DESCRIPTION:Contact:  \nLink for more information: http://ibew2.org/index.cfm?zone=/unionactive/view_calendar.cfm&calendarID=11838246&thisdate=06/09/2027&useCalSection=main
LOCATION:
URL:http://ibew2.org/index.cfm?zone=/unionactive/view_calendar.cfm&calendarID=11838246&thisdate=06/09/2027&useCalSection=main
DTSTART:20270609T213000Z
DTEND:20270609T223000Z
DTSTAMP:20240229T142949
TRIGGER:-PT60M
END:VEVENT
END:VCALENDAR
