BEGIN:VCALENDAR
VERSION:2.0
CALSCALE:GREGORIAN
PRODID:UnionActive
BEGIN:VEVENT
UID:11838231@ibew2.org
SUMMARY:Lewis County REC Unit Meeting
DESCRIPTION:Contact:  \nLink for more information: http://ibew2.org/index.cfm?zone=/unionactive/view_calendar.cfm&calendarID=11838231&thisdate=12/11/2024&useCalSection=main
LOCATION:
URL:http://ibew2.org/index.cfm?zone=/unionactive/view_calendar.cfm&calendarID=11838231&thisdate=12/11/2024&useCalSection=main
DTSTART:20241211T223000Z
DTEND:20241211T233000Z
DTSTAMP:20240229T141908
TRIGGER:-PT60M
END:VEVENT
END:VCALENDAR
