BEGIN:VCALENDAR
VERSION:2.0
CALSCALE:GREGORIAN
PRODID:UnionActive
BEGIN:VEVENT
UID:11838229@ibew2.org
SUMMARY:Lewis County REC Unit Meeting
DESCRIPTION:Contact:  \nLink for more information: http://ibew2.org/index.cfm?zone=/unionactive/view_calendar.cfm&calendarID=11838229&thisdate=08/14/2024&useCalSection=main
LOCATION:
URL:http://ibew2.org/index.cfm?zone=/unionactive/view_calendar.cfm&calendarID=11838229&thisdate=08/14/2024&useCalSection=main
DTSTART:20240814T213000Z
DTEND:20240814T223000Z
DTSTAMP:20240229T141947
TRIGGER:-PT60M
END:VEVENT
END:VCALENDAR
