BEGIN:VCALENDAR
VERSION:2.0
CALSCALE:GREGORIAN
PRODID:UnionActive
BEGIN:VEVENT
UID:11838221@ibew2.org
SUMMARY:Lewis County REC Unit Meeting
DESCRIPTION:Contact:  \nLink for more information: http://ibew2.org/index.cfm?zone=/unionactive/view_calendar.cfm&calendarID=11838221&thisdate=04/12/2023&useCalSection=main
LOCATION:
URL:http://ibew2.org/index.cfm?zone=/unionactive/view_calendar.cfm&calendarID=11838221&thisdate=04/12/2023&useCalSection=main
DTSTART:20230412T213000Z
DTEND:20230412T223000Z
DTSTAMP:20240229T142235
TRIGGER:-PT60M
END:VEVENT
END:VCALENDAR
