BEGIN:VCALENDAR
VERSION:2.0
CALSCALE:GREGORIAN
PRODID:UnionActive
BEGIN:VEVENT
UID:11838220@ibew2.org
SUMMARY:Lewis County REC Unit Meeting
DESCRIPTION:Contact:  \nLink for more information: http://ibew2.org/index.cfm?zone=/unionactive/view_calendar.cfm&calendarID=11838220&thisdate=02/08/2023&useCalSection=main
LOCATION:
URL:http://ibew2.org/index.cfm?zone=/unionactive/view_calendar.cfm&calendarID=11838220&thisdate=02/08/2023&useCalSection=main
DTSTART:20230208T223000Z
DTEND:20230208T233000Z
DTSTAMP:20240229T142243
TRIGGER:-PT60M
END:VEVENT
END:VCALENDAR
