BEGIN:VCALENDAR
VERSION:2.0
CALSCALE:GREGORIAN
PRODID:UnionActive
BEGIN:VEVENT
UID:11838215@ibew2.org
SUMMARY:Lewis County REC Unit Meeting
DESCRIPTION:Contact:  \nLink for more information: http://ibew2.org/index.cfm?zone=/unionactive/view_calendar.cfm&calendarID=11838215&thisdate=04/13/2022&useCalSection=main
LOCATION:
URL:http://ibew2.org/index.cfm?zone=/unionactive/view_calendar.cfm&calendarID=11838215&thisdate=04/13/2022&useCalSection=main
DTSTART:20220413T213000Z
DTEND:20220413T223000Z
DTSTAMP:20240229T142651
TRIGGER:-PT60M
END:VEVENT
END:VCALENDAR
