BEGIN:VCALENDAR
VERSION:2.0
CALSCALE:GREGORIAN
PRODID:UnionActive
BEGIN:VEVENT
UID:11838212@ibew2.org
SUMMARY:Lewis County REC Unit Meeting
DESCRIPTION:Contact:  \nLink for more information: http://ibew2.org/index.cfm?zone=/unionactive/view_calendar.cfm&calendarID=11838212&thisdate=10/13/2021&useCalSection=main
LOCATION:
URL:http://ibew2.org/index.cfm?zone=/unionactive/view_calendar.cfm&calendarID=11838212&thisdate=10/13/2021&useCalSection=main
DTSTART:20211013T213000Z
DTEND:20211013T223000Z
DTSTAMP:20240229T142925
TRIGGER:-PT60M
END:VEVENT
END:VCALENDAR
