BEGIN:VCALENDAR
VERSION:2.0
CALSCALE:GREGORIAN
PRODID:UnionActive
BEGIN:VEVENT
UID:11758177@ibew2.org
SUMMARY:Regular Meeting
DESCRIPTION:Contact:  \nLink for more information: http://ibew2.org/index.cfm?zone=/unionactive/view_calendar.cfm&calendarID=11758177&thisdate=12/14/2043&useCalSection=main
LOCATION:
URL:http://ibew2.org/index.cfm?zone=/unionactive/view_calendar.cfm&calendarID=11758177&thisdate=12/14/2043&useCalSection=main
DTSTART:20431215T010000Z
DTEND:20431215T020000Z
DTSTAMP:20240229T150140
TRIGGER:-PT60M
END:VEVENT
END:VCALENDAR
