BEGIN:VCALENDAR
VERSION:2.0
CALSCALE:GREGORIAN
PRODID:UnionActive
BEGIN:VEVENT
UID:11758174@ibew2.org
SUMMARY:Regular Meeting
DESCRIPTION:Contact:  \nLink for more information: http://ibew2.org/index.cfm?zone=/unionactive/view_calendar.cfm&calendarID=11758174&thisdate=09/14/2043&useCalSection=main
LOCATION:
URL:http://ibew2.org/index.cfm?zone=/unionactive/view_calendar.cfm&calendarID=11758174&thisdate=09/14/2043&useCalSection=main
DTSTART:20430915T000000Z
DTEND:20430915T010000Z
DTSTAMP:20240229T150137
TRIGGER:-PT60M
END:VEVENT
END:VCALENDAR
