BEGIN:VCALENDAR
VERSION:2.0
CALSCALE:GREGORIAN
PRODID:UnionActive
BEGIN:VEVENT
UID:11758159@ibew2.org
SUMMARY:Regular Meeting
DESCRIPTION:Contact:  \nLink for more information: http://ibew2.org/index.cfm?zone=/unionactive/view_calendar.cfm&calendarID=11758159&thisdate=06/09/2042&useCalSection=main
LOCATION:
URL:http://ibew2.org/index.cfm?zone=/unionactive/view_calendar.cfm&calendarID=11758159&thisdate=06/09/2042&useCalSection=main
DTSTART:20420610T000000Z
DTEND:20420610T010000Z
DTSTAMP:20240229T145949
TRIGGER:-PT60M
END:VEVENT
END:VCALENDAR
