BEGIN:VCALENDAR
VERSION:2.0
CALSCALE:GREGORIAN
PRODID:UnionActive
BEGIN:VEVENT
UID:11758157@ibew2.org
SUMMARY:Regular Meeting
DESCRIPTION:Contact:  \nLink for more information: http://ibew2.org/index.cfm?zone=/unionactive/view_calendar.cfm&calendarID=11758157&thisdate=04/14/2042&useCalSection=main
LOCATION:
URL:http://ibew2.org/index.cfm?zone=/unionactive/view_calendar.cfm&calendarID=11758157&thisdate=04/14/2042&useCalSection=main
DTSTART:20420415T000000Z
DTEND:20420415T010000Z
DTSTAMP:20240229T145912
TRIGGER:-PT60M
END:VEVENT
END:VCALENDAR
