BEGIN:VCALENDAR
VERSION:2.0
CALSCALE:GREGORIAN
PRODID:UnionActive
BEGIN:VEVENT
UID:11758150@ibew2.org
SUMMARY:Regular Meeting
DESCRIPTION:Contact:  \nLink for more information: http://ibew2.org/index.cfm?zone=/unionactive/view_calendar.cfm&calendarID=11758150&thisdate=09/09/2041&useCalSection=main
LOCATION:
URL:http://ibew2.org/index.cfm?zone=/unionactive/view_calendar.cfm&calendarID=11758150&thisdate=09/09/2041&useCalSection=main
DTSTART:20410910T000000Z
DTEND:20410910T010000Z
DTSTAMP:20240229T145752
TRIGGER:-PT60M
END:VEVENT
END:VCALENDAR
