BEGIN:VCALENDAR
VERSION:2.0
CALSCALE:GREGORIAN
PRODID:UnionActive
BEGIN:VEVENT
UID:11758149@ibew2.org
SUMMARY:Regular Meeting
DESCRIPTION:Contact:  \nLink for more information: http://ibew2.org/index.cfm?zone=/unionactive/view_calendar.cfm&calendarID=11758149&thisdate=08/12/2041&useCalSection=main
LOCATION:
URL:http://ibew2.org/index.cfm?zone=/unionactive/view_calendar.cfm&calendarID=11758149&thisdate=08/12/2041&useCalSection=main
DTSTART:20410813T000000Z
DTEND:20410813T010000Z
DTSTAMP:20240229T145746
TRIGGER:-PT60M
END:VEVENT
END:VCALENDAR
