BEGIN:VCALENDAR
VERSION:2.0
CALSCALE:GREGORIAN
PRODID:UnionActive
BEGIN:VEVENT
UID:11758140@ibew2.org
SUMMARY:Regular Meeting
DESCRIPTION:Contact:  \nLink for more information: http://ibew2.org/index.cfm?zone=/unionactive/view_calendar.cfm&calendarID=11758140&thisdate=11/12/2040&useCalSection=main
LOCATION:
URL:http://ibew2.org/index.cfm?zone=/unionactive/view_calendar.cfm&calendarID=11758140&thisdate=11/12/2040&useCalSection=main
DTSTART:20401113T010000Z
DTEND:20401113T020000Z
DTSTAMP:20240229T145529
TRIGGER:-PT60M
END:VEVENT
END:VCALENDAR
