BEGIN:VCALENDAR
VERSION:2.0
CALSCALE:GREGORIAN
PRODID:UnionActive
BEGIN:VEVENT
UID:11758126@ibew2.org
SUMMARY:Regular Meeting
DESCRIPTION:Contact:  \nLink for more information: http://ibew2.org/index.cfm?zone=/unionactive/view_calendar.cfm&calendarID=11758126&thisdate=09/12/2039&useCalSection=main
LOCATION:
URL:http://ibew2.org/index.cfm?zone=/unionactive/view_calendar.cfm&calendarID=11758126&thisdate=09/12/2039&useCalSection=main
DTSTART:20390913T000000Z
DTEND:20390913T010000Z
DTSTAMP:20240229T145323
TRIGGER:-PT60M
END:VEVENT
END:VCALENDAR
