BEGIN:VCALENDAR
VERSION:2.0
CALSCALE:GREGORIAN
PRODID:UnionActive
BEGIN:VEVENT
UID:11758102@ibew2.org
SUMMARY:Regular Meeting
DESCRIPTION:Contact:  \nLink for more information: http://ibew2.org/index.cfm?zone=/unionactive/view_calendar.cfm&calendarID=11758102&thisdate=09/14/2037&useCalSection=main
LOCATION:
URL:http://ibew2.org/index.cfm?zone=/unionactive/view_calendar.cfm&calendarID=11758102&thisdate=09/14/2037&useCalSection=main
DTSTART:20370915T000000Z
DTEND:20370915T010000Z
DTSTAMP:20240229T145007
TRIGGER:-PT60M
END:VEVENT
END:VCALENDAR
