BEGIN:VCALENDAR
VERSION:2.0
CALSCALE:GREGORIAN
PRODID:UnionActive
BEGIN:VEVENT
UID:11758090@ibew2.org
SUMMARY:Regular Meeting
DESCRIPTION:Contact:  \nLink for more information: http://ibew2.org/index.cfm?zone=/unionactive/view_calendar.cfm&calendarID=11758090&thisdate=09/08/2036&useCalSection=main
LOCATION:
URL:http://ibew2.org/index.cfm?zone=/unionactive/view_calendar.cfm&calendarID=11758090&thisdate=09/08/2036&useCalSection=main
DTSTART:20360909T000000Z
DTEND:20360909T010000Z
DTSTAMP:20240229T144819
TRIGGER:-PT60M
END:VEVENT
END:VCALENDAR
