BEGIN:VCALENDAR
VERSION:2.0
CALSCALE:GREGORIAN
PRODID:UnionActive
BEGIN:VEVENT
UID:11758086@ibew2.org
SUMMARY:Regular Meeting
DESCRIPTION:Contact:  \nLink for more information: http://ibew2.org/index.cfm?zone=/unionactive/view_calendar.cfm&calendarID=11758086&thisdate=05/12/2036&useCalSection=main
LOCATION:
URL:http://ibew2.org/index.cfm?zone=/unionactive/view_calendar.cfm&calendarID=11758086&thisdate=05/12/2036&useCalSection=main
DTSTART:20360513T000000Z
DTEND:20360513T010000Z
DTSTAMP:20240229T144808
TRIGGER:-PT60M
END:VEVENT
END:VCALENDAR
