BEGIN:VCALENDAR
VERSION:2.0
CALSCALE:GREGORIAN
PRODID:UnionActive
BEGIN:VEVENT
UID:11758073@ibew2.org
SUMMARY:Regular Meeting
DESCRIPTION:Contact:  \nLink for more information: http://ibew2.org/index.cfm?zone=/unionactive/view_calendar.cfm&calendarID=11758073&thisdate=04/09/2035&useCalSection=main
LOCATION:
URL:http://ibew2.org/index.cfm?zone=/unionactive/view_calendar.cfm&calendarID=11758073&thisdate=04/09/2035&useCalSection=main
DTSTART:20350410T000000Z
DTEND:20350410T010000Z
DTSTAMP:20240229T144549
TRIGGER:-PT60M
END:VEVENT
END:VCALENDAR
