BEGIN:VCALENDAR
VERSION:2.0
CALSCALE:GREGORIAN
PRODID:UnionActive
BEGIN:VEVENT
UID:11758072@ibew2.org
SUMMARY:Regular Meeting
DESCRIPTION:Contact:  \nLink for more information: http://ibew2.org/index.cfm?zone=/unionactive/view_calendar.cfm&calendarID=11758072&thisdate=03/12/2035&useCalSection=main
LOCATION:
URL:http://ibew2.org/index.cfm?zone=/unionactive/view_calendar.cfm&calendarID=11758072&thisdate=03/12/2035&useCalSection=main
DTSTART:20350313T000000Z
DTEND:20350313T010000Z
DTSTAMP:20240229T144512
TRIGGER:-PT60M
END:VEVENT
END:VCALENDAR
