BEGIN:VCALENDAR
VERSION:2.0
CALSCALE:GREGORIAN
PRODID:UnionActive
BEGIN:VEVENT
UID:11758065@ibew2.org
SUMMARY:Regular Meeting
DESCRIPTION:Contact:  \nLink for more information: http://ibew2.org/index.cfm?zone=/unionactive/view_calendar.cfm&calendarID=11758065&thisdate=08/14/2034&useCalSection=main
LOCATION:
URL:http://ibew2.org/index.cfm?zone=/unionactive/view_calendar.cfm&calendarID=11758065&thisdate=08/14/2034&useCalSection=main
DTSTART:20340815T000000Z
DTEND:20340815T010000Z
DTSTAMP:20240229T144306
TRIGGER:-PT60M
END:VEVENT
END:VCALENDAR
