BEGIN:VCALENDAR
VERSION:2.0
CALSCALE:GREGORIAN
PRODID:UnionActive
BEGIN:VEVENT
UID:11758063@ibew2.org
SUMMARY:Regular Meeting
DESCRIPTION:Contact:  \nLink for more information: http://ibew2.org/index.cfm?zone=/unionactive/view_calendar.cfm&calendarID=11758063&thisdate=06/12/2034&useCalSection=main
LOCATION:
URL:http://ibew2.org/index.cfm?zone=/unionactive/view_calendar.cfm&calendarID=11758063&thisdate=06/12/2034&useCalSection=main
DTSTART:20340613T000000Z
DTEND:20340613T010000Z
DTSTAMP:20240229T144303
TRIGGER:-PT60M
END:VEVENT
END:VCALENDAR
