BEGIN:VCALENDAR
VERSION:2.0
CALSCALE:GREGORIAN
PRODID:UnionActive
BEGIN:VEVENT
UID:11758050@ibew2.org
SUMMARY:Regular Meeting
DESCRIPTION:Contact:  \nLink for more information: http://ibew2.org/index.cfm?zone=/unionactive/view_calendar.cfm&calendarID=11758050&thisdate=05/09/2033&useCalSection=main
LOCATION:
URL:http://ibew2.org/index.cfm?zone=/unionactive/view_calendar.cfm&calendarID=11758050&thisdate=05/09/2033&useCalSection=main
DTSTART:20330510T000000Z
DTEND:20330510T010000Z
DTSTAMP:20240229T144036
TRIGGER:-PT60M
END:VEVENT
END:VCALENDAR
