BEGIN:VCALENDAR
VERSION:2.0
CALSCALE:GREGORIAN
PRODID:UnionActive
BEGIN:VEVENT
UID:11758045@ibew2.org
SUMMARY:Regular Meeting
DESCRIPTION:Contact:  \nLink for more information: http://ibew2.org/index.cfm?zone=/unionactive/view_calendar.cfm&calendarID=11758045&thisdate=12/13/2032&useCalSection=main
LOCATION:
URL:http://ibew2.org/index.cfm?zone=/unionactive/view_calendar.cfm&calendarID=11758045&thisdate=12/13/2032&useCalSection=main
DTSTART:20321214T010000Z
DTEND:20321214T020000Z
DTSTAMP:20240229T143858
TRIGGER:-PT60M
END:VEVENT
END:VCALENDAR
