BEGIN:VCALENDAR
VERSION:2.0
CALSCALE:GREGORIAN
PRODID:UnionActive
BEGIN:VEVENT
UID:11758037@ibew2.org
SUMMARY:Regular Meeting
DESCRIPTION:Contact:  \nLink for more information: http://ibew2.org/index.cfm?zone=/unionactive/view_calendar.cfm&calendarID=11758037&thisdate=04/12/2032&useCalSection=main
LOCATION:
URL:http://ibew2.org/index.cfm?zone=/unionactive/view_calendar.cfm&calendarID=11758037&thisdate=04/12/2032&useCalSection=main
DTSTART:20320413T000000Z
DTEND:20320413T010000Z
DTSTAMP:20240229T143902
TRIGGER:-PT60M
END:VEVENT
END:VCALENDAR
