BEGIN:VCALENDAR
VERSION:2.0
CALSCALE:GREGORIAN
PRODID:UnionActive
BEGIN:VEVENT
UID:11758020@ibew2.org
SUMMARY:Regular Meeting
DESCRIPTION:Contact:  \nLink for more information: http://ibew2.org/index.cfm?zone=/unionactive/view_calendar.cfm&calendarID=11758020&thisdate=11/11/2030&useCalSection=main
LOCATION:
URL:http://ibew2.org/index.cfm?zone=/unionactive/view_calendar.cfm&calendarID=11758020&thisdate=11/11/2030&useCalSection=main
DTSTART:20301112T010000Z
DTEND:20301112T020000Z
DTSTAMP:20240229T143603
TRIGGER:-PT60M
END:VEVENT
END:VCALENDAR
