BEGIN:VCALENDAR
VERSION:2.0
CALSCALE:GREGORIAN
PRODID:UnionActive
BEGIN:VEVENT
UID:11758001@ibew2.org
SUMMARY:Regular Meeting
DESCRIPTION:Contact:  \nLink for more information: http://ibew2.org/index.cfm?zone=/unionactive/view_calendar.cfm&calendarID=11758001&thisdate=04/09/2029&useCalSection=main
LOCATION:
URL:http://ibew2.org/index.cfm?zone=/unionactive/view_calendar.cfm&calendarID=11758001&thisdate=04/09/2029&useCalSection=main
DTSTART:20290410T000000Z
DTEND:20290410T010000Z
DTSTAMP:20240229T143408
TRIGGER:-PT60M
END:VEVENT
END:VCALENDAR
