BEGIN:VCALENDAR
VERSION:2.0
CALSCALE:GREGORIAN
PRODID:UnionActive
BEGIN:VEVENT
UID:11757999@ibew2.org
SUMMARY:Regular Meeting
DESCRIPTION:Contact:  \nLink for more information: http://ibew2.org/index.cfm?zone=/unionactive/view_calendar.cfm&calendarID=11757999&thisdate=02/12/2029&useCalSection=main
LOCATION:
URL:http://ibew2.org/index.cfm?zone=/unionactive/view_calendar.cfm&calendarID=11757999&thisdate=02/12/2029&useCalSection=main
DTSTART:20290213T010000Z
DTEND:20290213T020000Z
DTSTAMP:20240229T143550
TRIGGER:-PT60M
END:VEVENT
END:VCALENDAR
