BEGIN:VCALENDAR
VERSION:2.0
CALSCALE:GREGORIAN
PRODID:UnionActive
BEGIN:VEVENT
UID:11757998@ibew2.org
SUMMARY:Regular Meeting
DESCRIPTION:Contact:  \nLink for more information: http://ibew2.org/index.cfm?zone=/unionactive/view_calendar.cfm&calendarID=11757998&thisdate=01/08/2029&useCalSection=main
LOCATION:
URL:http://ibew2.org/index.cfm?zone=/unionactive/view_calendar.cfm&calendarID=11757998&thisdate=01/08/2029&useCalSection=main
DTSTART:20290109T010000Z
DTEND:20290109T020000Z
DTSTAMP:20240229T143419
TRIGGER:-PT60M
END:VEVENT
END:VCALENDAR
