BEGIN:VCALENDAR
VERSION:2.0
CALSCALE:GREGORIAN
PRODID:UnionActive
BEGIN:VEVENT
UID:11757996@ibew2.org
SUMMARY:Regular Meeting
DESCRIPTION:Contact:  \nLink for more information: http://ibew2.org/index.cfm?zone=/unionactive/view_calendar.cfm&calendarID=11757996&thisdate=11/13/2028&useCalSection=main
LOCATION:
URL:http://ibew2.org/index.cfm?zone=/unionactive/view_calendar.cfm&calendarID=11757996&thisdate=11/13/2028&useCalSection=main
DTSTART:20281114T010000Z
DTEND:20281114T020000Z
DTSTAMP:20240229T143447
TRIGGER:-PT60M
END:VEVENT
END:VCALENDAR
