BEGIN:VCALENDAR
VERSION:2.0
CALSCALE:GREGORIAN
PRODID:UnionActive
BEGIN:VEVENT
UID:11757981@ibew2.org
SUMMARY:Regular Meeting
DESCRIPTION:Contact:  \nLink for more information: http://ibew2.org/index.cfm?zone=/unionactive/view_calendar.cfm&calendarID=11757981&thisdate=08/09/2027&useCalSection=main
LOCATION:
URL:http://ibew2.org/index.cfm?zone=/unionactive/view_calendar.cfm&calendarID=11757981&thisdate=08/09/2027&useCalSection=main
DTSTART:20270810T000000Z
DTEND:20270810T010000Z
DTSTAMP:20240229T143204
TRIGGER:-PT60M
END:VEVENT
END:VCALENDAR
