BEGIN:VCALENDAR
VERSION:2.0
CALSCALE:GREGORIAN
PRODID:UnionActive
BEGIN:VEVENT
UID:11757973@ibew2.org
SUMMARY:Regular Meeting
DESCRIPTION:Contact:  \nLink for more information: http://ibew2.org/index.cfm?zone=/unionactive/view_calendar.cfm&calendarID=11757973&thisdate=12/14/2026&useCalSection=main
LOCATION:
URL:http://ibew2.org/index.cfm?zone=/unionactive/view_calendar.cfm&calendarID=11757973&thisdate=12/14/2026&useCalSection=main
DTSTART:20261215T010000Z
DTEND:20261215T020000Z
DTSTAMP:20240229T142717
TRIGGER:-PT60M
END:VEVENT
END:VCALENDAR
