BEGIN:VCALENDAR
VERSION:2.0
CALSCALE:GREGORIAN
PRODID:UnionActive
BEGIN:VEVENT
UID:11757971@ibew2.org
SUMMARY:Regular Meeting
DESCRIPTION:Contact:  \nLink for more information: http://ibew2.org/index.cfm?zone=/unionactive/view_calendar.cfm&calendarID=11757971&thisdate=10/12/2026&useCalSection=main
LOCATION:
URL:http://ibew2.org/index.cfm?zone=/unionactive/view_calendar.cfm&calendarID=11757971&thisdate=10/12/2026&useCalSection=main
DTSTART:20261013T000000Z
DTEND:20261013T010000Z
DTSTAMP:20240229T142735
TRIGGER:-PT60M
END:VEVENT
END:VCALENDAR
