BEGIN:VCALENDAR
VERSION:2.0
CALSCALE:GREGORIAN
PRODID:UnionActive
BEGIN:VEVENT
UID:11757961@ibew2.org
SUMMARY:Regular Meeting
DESCRIPTION:Contact:  \nLink for more information: http://ibew2.org/index.cfm?zone=/unionactive/view_calendar.cfm&calendarID=11757961&thisdate=12/08/2025&useCalSection=main
LOCATION:
URL:http://ibew2.org/index.cfm?zone=/unionactive/view_calendar.cfm&calendarID=11757961&thisdate=12/08/2025&useCalSection=main
DTSTART:20251209T010000Z
DTEND:20251209T020000Z
DTSTAMP:20240229T142737
TRIGGER:-PT60M
END:VEVENT
END:VCALENDAR
