BEGIN:VCALENDAR
VERSION:2.0
CALSCALE:GREGORIAN
PRODID:UnionActive
BEGIN:VEVENT
UID:11757951@ibew2.org
SUMMARY:Regular Meeting
DESCRIPTION:Contact:  \nLink for more information: http://ibew2.org/index.cfm?zone=/unionactive/view_calendar.cfm&calendarID=11757951&thisdate=02/10/2025&useCalSection=main
LOCATION:
URL:http://ibew2.org/index.cfm?zone=/unionactive/view_calendar.cfm&calendarID=11757951&thisdate=02/10/2025&useCalSection=main
DTSTART:20250211T010000Z
DTEND:20250211T020000Z
DTSTAMP:20240229T142654
TRIGGER:-PT60M
END:VEVENT
END:VCALENDAR
