BEGIN:VCALENDAR
VERSION:2.0
CALSCALE:GREGORIAN
PRODID:UnionActive
BEGIN:VEVENT
UID:11757948@ibew2.org
SUMMARY:Regular Meeting
DESCRIPTION:Contact:  \nLink for more information: http://ibew2.org/index.cfm?zone=/unionactive/view_calendar.cfm&calendarID=11757948&thisdate=11/11/2024&useCalSection=main
LOCATION:
URL:http://ibew2.org/index.cfm?zone=/unionactive/view_calendar.cfm&calendarID=11757948&thisdate=11/11/2024&useCalSection=main
DTSTART:20241112T010000Z
DTEND:20241112T020000Z
DTSTAMP:20240229T141947
TRIGGER:-PT60M
END:VEVENT
END:VCALENDAR
