BEGIN:VCALENDAR
VERSION:2.0
CALSCALE:GREGORIAN
PRODID:UnionActive
BEGIN:VEVENT
UID:11757944@ibew2.org
SUMMARY:Regular Meeting
DESCRIPTION:Contact:  \nLink for more information: http://ibew2.org/index.cfm?zone=/unionactive/view_calendar.cfm&calendarID=11757944&thisdate=07/08/2024&useCalSection=main
LOCATION:
URL:http://ibew2.org/index.cfm?zone=/unionactive/view_calendar.cfm&calendarID=11757944&thisdate=07/08/2024&useCalSection=main
DTSTART:20240709T000000Z
DTEND:20240709T010000Z
DTSTAMP:20240229T142231
TRIGGER:-PT60M
END:VEVENT
END:VCALENDAR
