BEGIN:VCALENDAR
VERSION:2.0
CALSCALE:GREGORIAN
PRODID:UnionActive
BEGIN:VEVENT
UID:11757942@ibew2.org
SUMMARY:Regular Meeting
DESCRIPTION:Contact:  \nLink for more information: http://ibew2.org/index.cfm?zone=/unionactive/view_calendar.cfm&calendarID=11757942&thisdate=05/13/2024&useCalSection=main
LOCATION:
URL:http://ibew2.org/index.cfm?zone=/unionactive/view_calendar.cfm&calendarID=11757942&thisdate=05/13/2024&useCalSection=main
DTSTART:20240514T000000Z
DTEND:20240514T010000Z
DTSTAMP:20240229T141943
TRIGGER:-PT60M
END:VEVENT
END:VCALENDAR
