BEGIN:VCALENDAR
VERSION:2.0
CALSCALE:GREGORIAN
PRODID:UnionActive
BEGIN:VEVENT
UID:11757934@ibew2.org
SUMMARY:Regular Meeting
DESCRIPTION:Contact:  \nLink for more information: http://ibew2.org/index.cfm?zone=/unionactive/view_calendar.cfm&calendarID=11757934&thisdate=09/11/2023&useCalSection=main
LOCATION:
URL:http://ibew2.org/index.cfm?zone=/unionactive/view_calendar.cfm&calendarID=11757934&thisdate=09/11/2023&useCalSection=main
DTSTART:20230912T000000Z
DTEND:20230912T010000Z
DTSTAMP:20240229T142246
TRIGGER:-PT60M
END:VEVENT
END:VCALENDAR
